BEGIN:VCALENDAR
VERSION:2.0
PRODID:-//The Terry Foundation - ECPv6.15.20//NONSGML v1.0//EN
CALSCALE:GREGORIAN
METHOD:PUBLISH
X-ORIGINAL-URL:https://terryfoundation.org
X-WR-CALDESC:Events for The Terry Foundation
REFRESH-INTERVAL;VALUE=DURATION:PT1H
X-Robots-Tag:noindex
X-PUBLISHED-TTL:PT1H
BEGIN:VTIMEZONE
TZID:America/Chicago
BEGIN:DAYLIGHT
TZOFFSETFROM:-0600
TZOFFSETTO:-0500
TZNAME:CDT
DTSTART:20250309T080000
END:DAYLIGHT
BEGIN:STANDARD
TZOFFSETFROM:-0500
TZOFFSETTO:-0600
TZNAME:CST
DTSTART:20251102T070000
END:STANDARD
BEGIN:DAYLIGHT
TZOFFSETFROM:-0600
TZOFFSETTO:-0500
TZNAME:CDT
DTSTART:20260308T080000
END:DAYLIGHT
BEGIN:STANDARD
TZOFFSETFROM:-0500
TZOFFSETTO:-0600
TZNAME:CST
DTSTART:20261101T070000
END:STANDARD
BEGIN:DAYLIGHT
TZOFFSETFROM:-0600
TZOFFSETTO:-0500
TZNAME:CDT
DTSTART:20270314T080000
END:DAYLIGHT
BEGIN:STANDARD
TZOFFSETFROM:-0500
TZOFFSETTO:-0600
TZNAME:CST
DTSTART:20271107T070000
END:STANDARD
END:VTIMEZONE
BEGIN:VEVENT
DTSTART;TZID=America/Chicago:20260307T073000
DTEND;TZID=America/Chicago:20260307T120000
DTSTAMP:20260423T043952
CREATED:20260302T204320Z
LAST-MODIFIED:20260303T150233Z
UID:10000134-1772868600-1772884800@terryfoundation.org
SUMMARY:2026 TSAA  Chapter & UH Terrys Houston Foodbank Service Event
DESCRIPTION:Houston Food Bank \nFor more information:\nhttps://www.classy.org/event/e769167 \nPlease take note that this event is located in the America/Chicago timezone.
URL:https://terryfoundation.org/event/2026-tsaa-chapter-uh-terrys-houston-foodbank-service-event/
LOCATION:Houston Food Bank\, 535 Portwall Street\, Houston\, TX\, 77029\, United States
ATTACH;FMTTYPE=image/webp:https://terryfoundation.org/wp-content/uploads/2026/03/5df061f0-0945-11f1-b036-0a58a9feac02.webp
END:VEVENT
END:VCALENDAR