BEGIN:VCALENDAR
VERSION:2.0
PRODID:-//The Terry Foundation - ECPv6.15.20//NONSGML v1.0//EN
CALSCALE:GREGORIAN
METHOD:PUBLISH
X-ORIGINAL-URL:https://terryfoundation.org
X-WR-CALDESC:Events for The Terry Foundation
REFRESH-INTERVAL;VALUE=DURATION:PT1H
X-Robots-Tag:noindex
X-PUBLISHED-TTL:PT1H
BEGIN:VTIMEZONE
TZID:America/Denver
BEGIN:DAYLIGHT
TZOFFSETFROM:-0700
TZOFFSETTO:-0600
TZNAME:MDT
DTSTART:20250309T090000
END:DAYLIGHT
BEGIN:STANDARD
TZOFFSETFROM:-0600
TZOFFSETTO:-0700
TZNAME:MST
DTSTART:20251102T080000
END:STANDARD
BEGIN:DAYLIGHT
TZOFFSETFROM:-0700
TZOFFSETTO:-0600
TZNAME:MDT
DTSTART:20260308T090000
END:DAYLIGHT
BEGIN:STANDARD
TZOFFSETFROM:-0600
TZOFFSETTO:-0700
TZNAME:MST
DTSTART:20261101T080000
END:STANDARD
BEGIN:DAYLIGHT
TZOFFSETFROM:-0700
TZOFFSETTO:-0600
TZNAME:MDT
DTSTART:20270314T090000
END:DAYLIGHT
BEGIN:STANDARD
TZOFFSETFROM:-0600
TZOFFSETTO:-0700
TZNAME:MST
DTSTART:20271107T080000
END:STANDARD
END:VTIMEZONE
BEGIN:VTIMEZONE
TZID:America/Chicago
BEGIN:DAYLIGHT
TZOFFSETFROM:-0600
TZOFFSETTO:-0500
TZNAME:CDT
DTSTART:20250309T080000
END:DAYLIGHT
BEGIN:STANDARD
TZOFFSETFROM:-0500
TZOFFSETTO:-0600
TZNAME:CST
DTSTART:20251102T070000
END:STANDARD
BEGIN:DAYLIGHT
TZOFFSETFROM:-0600
TZOFFSETTO:-0500
TZNAME:CDT
DTSTART:20260308T080000
END:DAYLIGHT
BEGIN:STANDARD
TZOFFSETFROM:-0500
TZOFFSETTO:-0600
TZNAME:CST
DTSTART:20261101T070000
END:STANDARD
BEGIN:DAYLIGHT
TZOFFSETFROM:-0600
TZOFFSETTO:-0500
TZNAME:CDT
DTSTART:20270314T080000
END:DAYLIGHT
BEGIN:STANDARD
TZOFFSETFROM:-0500
TZOFFSETTO:-0600
TZNAME:CST
DTSTART:20271107T070000
END:STANDARD
END:VTIMEZONE
BEGIN:VEVENT
DTSTART;TZID=America/Denver:20260422T170000
DTEND;TZID=America/Denver:20260422T210000
DTSTAMP:20260419T093956
CREATED:20210716T020012Z
LAST-MODIFIED:20250530T194112Z
UID:10000007-1776877200-1776891600@terryfoundation.org
SUMMARY:Terry Picnic in El Paso
DESCRIPTION:Currently enrolled Terry Scholars attending UTEP are REQUIRED to attend the Terry Picnic in El Paso. \nScholars\, Alumni\, Board Members\, and Staff share a casual meal and have the opportunity to reflect on the year together. During the picnic event\, Terry Scholars will receive an update from the Terry Foundation Board of Directors and help us celebrate the graduating seniors as we listen to their accomplishments and future plans. \nScholars needing to request an excused absence should log in to the Terry Portal to submit an Excused Absence Request (located under the Actions menu).
URL:https://terryfoundation.org/event/terry-picnic-in-el-paso/
LOCATION:Epic Railyard Event Center\, 2201 E Mills Ave\, El Paso\, Texas\, 79901
CATEGORIES:Picnic
ATTACH;FMTTYPE=image/png:https://terryfoundation.org/wp-content/uploads/2024/12/UTEP-Picnic.png
END:VEVENT
BEGIN:VEVENT
DTSTART;TZID=America/Chicago:20260425T100000
DTEND;TZID=America/Chicago:20260425T143000
DTSTAMP:20260419T093956
CREATED:20210716T013620Z
LAST-MODIFIED:20250530T194050Z
UID:10000009-1777111200-1777127400@terryfoundation.org
SUMMARY:Terry Picnic at George Ranch
DESCRIPTION:Currently enrolled Terry Scholars attending TAMU and UH are REQUIRED to attend the Terry Picnic at George Ranch and utilize the transportation provided by the Foundation. \nScholars\, Alumni\, Board Members\, and Staff share a casual meal and have the opportunity to reflect on the year together. During the picnic event\, Terry Scholars will receive an update from the Terry Foundation Board of Directors and help us celebrate the graduating seniors as we listen to their accomplishments and future plans. \nScholars needing to request an excused absence should log in to the Terry Portal to submit an Excused Absence Request (located under the Actions menu).
URL:https://terryfoundation.org/event/terry-picnic-at-george-ranch/
LOCATION:The George Ranch\, 10215 FM 762 Rd\, Richmond\, TX\, 77469\, United States
CATEGORIES:Picnic
ATTACH;FMTTYPE=image/png:https://terryfoundation.org/wp-content/uploads/2024/12/GR-Picnic.png
GEO:29.4975041;-95.68253
X-APPLE-STRUCTURED-LOCATION;VALUE=URI;X-ADDRESS=The George Ranch 10215 FM 762 Rd Richmond TX 77469 United States;X-APPLE-RADIUS=500;X-TITLE=10215 FM 762 Rd:geo:-95.68253,29.4975041
END:VEVENT
BEGIN:VEVENT
DTSTART;TZID=America/Chicago:20260426T100000
DTEND;TZID=America/Chicago:20260426T150000
DTSTAMP:20260419T093956
CREATED:20210716T015519Z
LAST-MODIFIED:20250530T194025Z
UID:10000010-1777197600-1777215600@terryfoundation.org
SUMMARY:Terry Picnic at Reunion Ranch
DESCRIPTION:Currently enrolled Terry Scholars attending TXST\, UT-Austin\, and UTSA are REQUIRED to attend the Terry Picnic at Reunion Ranch and utilize the transportation provided by the Foundation. \nScholars\, Alumni\, Board Members\, and Staff share a casual meal and have the opportunity to reflect on the year together. During the picnic event\, Terry Scholars will receive an update from the Terry Foundation Board of Directors and help us celebrate the graduating seniors as we listen to their accomplishments and future plans. \nScholars needing to request an excused absence should log in to the Terry Portal to submit an Excused Absence Request (located under the Actions menu).
URL:https://terryfoundation.org/event/terry-picnic-at-reunion-ranch/
LOCATION:Reunion Ranch\, 850 CR 255\, Georgetown\, TX\, 78633\, United States
CATEGORIES:Picnic
ATTACH;FMTTYPE=image/png:https://terryfoundation.org/wp-content/uploads/2024/12/RR-Picnic.png
GEO:30.7191595;-97.8560088
X-APPLE-STRUCTURED-LOCATION;VALUE=URI;X-ADDRESS=Reunion Ranch 850 CR 255 Georgetown TX 78633 United States;X-APPLE-RADIUS=500;X-TITLE=850 CR 255:geo:-97.8560088,30.7191595
END:VEVENT
BEGIN:VEVENT
DTSTART;TZID=America/Chicago:20260428T163000
DTEND;TZID=America/Chicago:20260428T200000
DTSTAMP:20260419T093956
CREATED:20210715T014043Z
LAST-MODIFIED:20250530T193953Z
UID:10000006-1777393800-1777406400@terryfoundation.org
SUMMARY:Terry Picnic in Lubbock
DESCRIPTION:https://terryfoundation.org/picnic-registration/Currently enrolled Terry Scholars attending TTU are REQUIRED to attend the Terry Picnic in Lubbock. \nScholars\, Alumni\, Board Members\, and Staff share a casual meal and have the opportunity to reflect on the year together. During the picnic event\, Terry Scholars will receive an update from the Terry Foundation Board of Directors and help us celebrate the graduating seniors as we listen to their accomplishments and future plans. \nScholars needing to request an excused absence should log in to the Terry Portal to submit an Excused Absence Request (located under the Actions menu).
URL:https://terryfoundation.org/event/terry-picnic-in-lubbock/
LOCATION:Cagle Steaks & BBQ\, 8732 4th St.\, Lubbock\, TX\, United States
CATEGORIES:Picnic
ATTACH;FMTTYPE=image/png:https://terryfoundation.org/wp-content/uploads/2024/12/TTU-Picnic.png
GEO:33.5966398;-102.0101481
X-APPLE-STRUCTURED-LOCATION;VALUE=URI;X-ADDRESS=Cagle Steaks & BBQ 8732 4th St. Lubbock TX United States;X-APPLE-RADIUS=500;X-TITLE=8732 4th St.:geo:-102.0101481,33.5966398
END:VEVENT
BEGIN:VEVENT
DTSTART;TZID=America/Chicago:20260503T103000
DTEND;TZID=America/Chicago:20260503T150000
DTSTAMP:20260419T093956
CREATED:20210716T015438Z
LAST-MODIFIED:20250530T193858Z
UID:10000008-1777804200-1777820400@terryfoundation.org
SUMMARY:Terry Picnic at Southfork Ranch
DESCRIPTION:Currently enrolled Terry Scholars attending TWU\, UNT\, UTA\, and UTD are REQUIRED to attend the Terry Picnic at Southfork Ranch and utilize the transportation provided by the Foundation. \nScholars\, Alumni\, Board Members\, and Staff share a casual meal and have the opportunity to reflect on the year together. During the picnic event\, Terry Scholars will receive an update from the Terry Foundation Board of Directors and help us celebrate the graduating seniors as we listen to their accomplishments and future plans. \nScholars needing to request an excused absence should log in to the Terry Portal to submit an Excused Absence Request (located under the Actions menu).
URL:https://terryfoundation.org/event/terry-picnic-at-southfork-ranch/
LOCATION:Southfork Ranch\, 3700 Hogge Dr\, Parker\, TX\, 75002\, United States
CATEGORIES:Picnic
ATTACH;FMTTYPE=image/png:https://terryfoundation.org/wp-content/uploads/2024/12/SF-Picnic.png
GEO:33.049312;-96.609403
X-APPLE-STRUCTURED-LOCATION;VALUE=URI;X-ADDRESS=Southfork Ranch 3700 Hogge Dr Parker TX 75002 United States;X-APPLE-RADIUS=500;X-TITLE=3700 Hogge Dr:geo:-96.609403,33.049312
END:VEVENT
END:VCALENDAR